BEGIN:VCALENDAR
VERSION:2.0
PRODID:-//wp-events-plugin.com//7.2.3.1//EN
TZID:Europe/Berlin
X-WR-TIMEZONE:Europe/Berlin
BEGIN:VEVENT
UID:60@langenselbold1910.de
DTSTART;TZID=Europe/Berlin:20260419T130000
DTEND;TZID=Europe/Berlin:20260419T145000
DTSTAMP:20260327T101736Z
URL:https://langenselbold1910.de/events/heimspiel-2-mannschaft-sv-wolfgang
 /
SUMMARY:Heimspiel: 2. Mannschaft - SV Wolfgang
DESCRIPTION:Automatisch erstellt durch Spielplan-Import\nHeimspiel: Spvgg. 
 Langenselbold II gegen SV Wolfgang\nVerknüpfte Belegung ID: 11631
CATEGORIES:Clubheim intern
LOCATION:Vereinsheim - Spvgg. 1910 e.V. Langenselbold\, Niedergründauer St
 r. 44\, Langenselbold\, Hessen\, 63505\, Deutschland
X-APPLE-STRUCTURED-LOCATION;VALUE=URI;X-ADDRESS=Niedergründauer Str. 44\, 
 Langenselbold\, Hessen\, 63505\, Deutschland;X-APPLE-RADIUS=100;X-TITLE=Ve
 reinsheim - Spvgg. 1910 e.V. Langenselbold:geo:0,0
END:VEVENT
BEGIN:VTIMEZONE
TZID:Europe/Berlin
X-LIC-LOCATION:Europe/Berlin
BEGIN:DAYLIGHT
DTSTART:20260329T030000
TZOFFSETFROM:+0100
TZOFFSETTO:+0200
TZNAME:CEST
END:DAYLIGHT
END:VTIMEZONE
END:VCALENDAR