BEGIN:VCALENDAR
VERSION:2.0
PRODID:-//wp-events-plugin.com//7.2.3.1//EN
TZID:Europe/Berlin
X-WR-TIMEZONE:Europe/Berlin
BEGIN:VEVENT
UID:126@langenselbold1910.de
DTSTART;TZID=Europe/Berlin:20270206T190000
DTEND;TZID=Europe/Berlin:20270206T235900
DTSTAMP:20260327T203356Z
URL:https://langenselbold1910.de/events/apres-ski-faschingsparty/
SUMMARY:Apres Ski Faschingsparty
DESCRIPTION:
CATEGORIES:Clubheim intern
LOCATION:Vereinsheim - Spvgg. 1910 e.V. Langenselbold\, Niedergründauer St
 r. 44\, Langenselbold\, Hessen\, 63505\, Deutschland
X-APPLE-STRUCTURED-LOCATION;VALUE=URI;X-ADDRESS=Niedergründauer Str. 44\, 
 Langenselbold\, Hessen\, 63505\, Deutschland;X-APPLE-RADIUS=100;X-TITLE=Ve
 reinsheim - Spvgg. 1910 e.V. Langenselbold:geo:0,0
END:VEVENT
BEGIN:VTIMEZONE
TZID:Europe/Berlin
X-LIC-LOCATION:Europe/Berlin
BEGIN:STANDARD
DTSTART:20261025T020000
TZOFFSETFROM:+0200
TZOFFSETTO:+0100
TZNAME:CET
END:STANDARD
END:VTIMEZONE
END:VCALENDAR